BEGIN:VCALENDAR
VERSION:2.0
PRODID:-//wp-events-plugin.com//7.2.3.1//EN
BEGIN:VEVENT
UID:12@lvwasc.co.nz
DTSTART;VALUE=DATE:20260221
DTEND;VALUE=DATE:20260223
DTSTAMP:20251224T093149Z
URL:https://www.lvwasc.co.nz/events/waikato-long-course-summer-meet/
SUMMARY:Waikato Long Course Summer Meet
DESCRIPTION:\n 	NAG’s and Open’s targeted meet.\n
CATEGORIES:Officiated Meet,Regional Championship
LOCATION:Water World\, 61 Garnett Avenue\, Forest Lake\, Hamilton\, Waikato
 \, 3200\, Waikato\, New Zealand
GEO:-37.768212;175.252135
X-APPLE-STRUCTURED-LOCATION;VALUE=URI;X-ADDRESS=61 Garnett Avenue\, Forest 
 Lake\, Hamilton\, Waikato\, 3200\, Waikato\, New Zealand;X-APPLE-RADIUS=10
 0;X-TITLE=Water World:geo:-37.768212,175.252135
END:VEVENT
END:VCALENDAR