BEGIN:VCALENDAR
VERSION:2.0
PRODID:-//wp-events-plugin.com//7.2.3.1//EN
BEGIN:VEVENT
UID:23@lvwasc.co.nz
DTSTART:20261017T190000Z
DTEND:20261018T000000Z
DTSTAMP:20260119T065921Z
URL:https://www.lvwasc.co.nz/events/classic-series-meet-two-2/
SUMMARY:Classic Series – Meet Two
DESCRIPTION:Development Meet
CATEGORIES:Development Meet,Inter Club Competition
END:VEVENT
END:VCALENDAR